BEGIN:VCALENDAR
VERSION:2.0
PRODID:-//Swimming Australia/Event//EN
BEGIN:VEVENT
LOCATION:Melbourne Sports & Aquatic Centre - INDOOR POOL\, 
DESCRIPTION:
                    Sat\, 09/11/2019 to Sat\, 09/11/2019
            
                    Competition - 9:30am
            
X-ALT-DESC:
                    <div class="field field--name-field-event-date-time field--type-daterange field--label-hidden field__item">Sat\, 09/11/2019 to Sat\, 09/11/2019</div>
            
                    <div class="field field--name-field-text field--type-string field--label-hidden field__item field__seconditem">Competition - 9:30am</div>
            
DTSTART:20191108T223000Z
DTEND:20191109T070000Z
SUMMARY:Country Junior District Competition
URL;VALUE=URI:https://vic.swimming.org.au/events/country-junior-district-competition
DTSTAMP:20200227T110551Z
UID:5e57a28f257210.12204491
END:VEVENT
END:VCALENDAR