BEGIN:VCALENDAR
VERSION:2.0
PRODID:-//Swimming Australia/Event//EN
BEGIN:VEVENT
LOCATION:Melbourne Sports & Aquatic Centre - INDOOR POOL\, 
DESCRIPTION:
                    Sun\, 10/11/2019 to Sun\, 10/11/2019
            
                    Competition - 9:00am
            
X-ALT-DESC:
                    <div class="field field--name-field-event-date-time field--type-daterange field--label-hidden field__item">Sun\, 10/11/2019 to Sun\, 10/11/2019</div>
            
                    <div class="field field--name-field-text field--type-string field--label-hidden field__item field__seconditem">Competition - 9:00am</div>
            
DTSTART:20191109T220000Z
DTEND:20191110T070000Z
SUMMARY:Metro Junior District Competition
URL;VALUE=URI:https://vic.swimming.org.au/events/metro-junior-district-competition
DTSTAMP:20200227T110601Z
UID:5e57a29953e146.47207753
END:VEVENT
END:VCALENDAR