BEGIN:VCALENDAR
VERSION:2.0
PRODID:-//Swimming Australia/Event//EN
BEGIN:VEVENT
LOCATION:Melbourne Sports & Aquatic Centre - Outdoor Pool\, 
DESCRIPTION:
                    Sat\, 16/11/2019 to Sun\, 24/11/2019
            
                    Competition - 9:00am
            
X-ALT-DESC:
                    <div class="field field--name-field-event-date-time field--type-daterange field--label-hidden field__item">Sat\, 16/11/2019 to Sun\, 24/11/2019</div>
            
                    <div class="field field--name-field-text field--type-string field--label-hidden field__item field__seconditem">Competition - 9:00am</div>
            
DTSTART:20191115T220000Z
DTEND:20191124T070000Z
SUMMARY:Victorian Qualifying Competition
URL;VALUE=URI:https://vic.swimming.org.au/events/victorian-qualifying-competition
DTSTAMP:20200227T110608Z
UID:5e57a2a0c70c48.47496201
END:VEVENT
END:VCALENDAR