BEGIN:VCALENDAR
VERSION:2.0
PRODID:-//Swimming Australia/Event//EN
BEGIN:VEVENT
LOCATION:MSAC\, Outdoor Pool\, 
DESCRIPTION:
                    Fri\, 14/02/2020 to Sun\, 16/02/2020
            
                    Competition - 8:30 AM
            
X-ALT-DESC:
                    <div class="field field--name-field-event-date-time field--type-daterange field--label-hidden field__item">Fri\, 14/02/2020 to Sun\, 16/02/2020</div>
            
                    <div class="field field--name-field-text field--type-string field--label-hidden field__item field__seconditem">Competition - 8:30 AM</div>
            
DTSTART:20200214T011921Z
DTEND:20200216T011921Z
SUMMARY:Victorian Open LC Championships*
URL;VALUE=URI:https://vic.swimming.org.au/events/victorian-open-lc-championships
DTSTAMP:20200227T110545Z
UID:5e57a289c86036.50330258
END:VEVENT
END:VCALENDAR